BEGIN:VCALENDAR
VERSION:2.0
PRODID:-//Change Your Story - ECPv6.15.20//NONSGML v1.0//EN
CALSCALE:GREGORIAN
METHOD:PUBLISH
X-WR-CALNAME:Change Your Story
X-ORIGINAL-URL:https://changeyourstoryinc.org
X-WR-CALDESC:Events for Change Your Story
REFRESH-INTERVAL;VALUE=DURATION:PT1H
X-Robots-Tag:noindex
X-PUBLISHED-TTL:PT1H
BEGIN:VTIMEZONE
TZID:UTC
BEGIN:STANDARD
TZOFFSETFROM:+0000
TZOFFSETTO:+0000
TZNAME:UTC
DTSTART:20230101T000000
END:STANDARD
END:VTIMEZONE
BEGIN:VEVENT
DTSTART;TZID=UTC:20240608T120000
DTEND;TZID=UTC:20240608T150000
DTSTAMP:20260419T121059
CREATED:20240422T164606Z
LAST-MODIFIED:20240422T164606Z
UID:747-1717848000-1717858800@changeyourstoryinc.org
SUMMARY:Group Therapy with the LPC
DESCRIPTION:
URL:https://changeyourstoryinc.org/event/group-therapy-with-the-lpc/
LOCATION:GA
ORGANIZER;CN="Changing Your Story Inc.":MAILTO:changeyourstoryinc@gmail.com
END:VEVENT
END:VCALENDAR